Workbook

Sheet Caisse et CB
B1: ROULEAUX & ENCRES | D1: Stock 260218 | E1: Entrée | F1: Vendu | G1: Stock | H1: PU HT | I1: HT
C8: Total | D8: =SUM(D3:D7) -> 0 | E8: =SUM(E3:E7) -> 0 | F8: =SUM(F3:F7) -> 0 | G8: =SUM(G3:G7) -> 0 | I8: =SUM(I3:I7) -> 0

Sheet Materiel
B1: TYPE | C1: FOURNISSEUR | D1: REF FABRICANT | E1: DATE Achat | F1: Nb | G1: PU HT | H1: TOTAL HT
B93: TOTAL HT | H93: =SUM(H2:H92) -> 0

Sheet Verreries
B1: CODE | C1: Stock au 15 04 20 | D1: Stock | E1: PUHT | F1: Stock HT
C24: Total | D24: =SUM(D3:D23) -> 0 | F24: =SUM(F3:F23) -> 0

Sheet Couverts
B1: COUVERTS | C1: Stock au 15 04 20 | D1: Stock | E1: PU HT | F1: PA TOTAL HT
B17: CODE | C17: TOTAL | D17: =SUM(D3:D16) -> 0 | F17: =SUM(F3:F16) -> 0

Sheet Alcools
B1: ALCOOLS | C1: Stock au 15 04 20 | D1: Stock | E1: PU HT | F1: PVTTC | G1: COEFF | H1: PA TOTAL HT
B61: CODE | C61: TOTAL | D61: =SUM(D3:D60) -> 0 | G61: =SUM(G3:G60) -> 0 | H61: =SUM(H3:H60) -> 0

Sheet Bieres
B1: BIERES | C1: Stock 15 04 2020 | D1: Stock | E1: PU HT | F1: PVTTC | G1: COEFF | H1: PA TOTAL HT
B14: CODE | C14: TOTAL | D14: =SUM(D3:D13) -> 0 | H14: =SUM(H3:H13) -> 0

Sheet Cafés Chocolat Thé 
B1: CODE | C1: STOCK AU 15 04 2020 | D1: Stock | E1: PUHT | F1: PVTTC | G1: COEFF | H1: PA TOTAL HT
B10: CODE | C10: THE SAC 200 Pièces | D10: =SUM(D7:D9) -> 0
B26: CODE | C26: Total | D26: =SUM(D11:D25) -> 0 | H26: =SUM(H2:H25) -> 0

Sheet Cigares
B1: CIGARES | C1: PRODUITS 15 03 20 | D1: STOCK | E1: PU HT | F1: PVTTC | G1: COEF | H1: PA TOTAL HT
B11: CODE | C11: TOTAL | D11: =SUM(D2:D10) -> 0 | H11: =SUM(H2:H10) -> 0

Sheet Jus Fruits & Sirops
B1: Codes | C1: Stock 15.04.20 | D1: STOCK | E1: PU HT | F1: PV TTC | G1: COEF | H1: TOTAL HT
B33: CODE | C33: Total | D33: =SUM(D3:D32) -> 0 | H33: =SUM((H3:H31)) -> 0

Sheet Sodas
B1: SODAS | C1: Stock au 15 04 20 | D1: Stock | E1: PU HT | F1: PVTTC | G1: COEFF | H1: TOTAL HT
B23: CODE | C23: Total | D23: =SUM(D3:D22) -> 0 | H23: =SUM(H3:H22) -> 0

Sheet Vins&Champagnes
B1: VINS | C1: Stock au 15 04 20 | D1: 0 | E1: 1.5 | F1: 0 | G1: .75 | H1: .50 | I1: .37 | J1: Stock | K1: PU HT | L1: PVTTC | M1: COEFF | N1: PA TOTAL HT
B81: CODE | C81: Total | D81: =SUM(D4:D80) -> 0 | E81: =SUM(E4:E80) -> 0 | F81: =SUM(F4:F80) -> 0 | G81: =SUM(G4:G80) -> 0 | H81: =SUM(H4:H80) -> 0 | I81: =SUM(I4:I80) -> 0 | J81: =SUM(J4:J80) -> 0 | K81: =SUM(K4:K80) -> 0 | ... N81: =SUM(N4:N80) -> 0
B112: CODE | C112: TOTAL | D112: =SUM(D85:D111) -> 0 | E112: =SUM(E85:E111) -> 0 | F112: =SUM(F85:F111) -> 0 | G112: =SUM(G85:G111) -> 0 | H112: =SUM(H85:H111) -> 0 | I112: =SUM(I85:I111) -> 0 | J112: =SUM(J85:J111) -> 0 | K112: =SUM(K85:K111) -> 0 | ... N112: =SUM(N85:N111) -> 0

Sheet Feuil1

Sheet TOTAL
B1: STOCK Consommable 14 04 20 | E1: STOCK Materiel 14 04 20
B2: Produits | C2: CHF HT | E2: Produits | F2: CHF HT
B3: Bieres | C3: =SUM(Bieres!H14) -> 0 | E3: Couverts | F3: =SUM(Couverts!F17) -> 0
B4: Vins & Champagnes | C4: =SUM('Vins&Champagnes'!N81+TOTAL!N112) -> 0 | E4: Verrerie | F4: =SUM(Verreries!F24) -> 0
B5: Alcools | C5: =SUM(Alcools!H61) -> 0 | F5: =SUM(Alcools!K61) -> 0
B6: Cigares | C6: =SUM(Cigares!H11) -> 0 | F6: =SUM(Cigares!K11) -> 0
B7: Jus de fruits et sirops | C7: =SUM('Jus Fruits & Sirops'!H33) -> 0 | F7: =SUM('Jus Fruits & Sirops'!K33) -> 0
B8: Sodas | C8: =SUM(Sodas!H23) -> 0 | F8: =SUM(Sodas!K23) -> 0
B9: Cafés Thé Chocolat | C9: =SUM('Cafés Chocolat Thé '!H26) -> 0 | F9: =SUM('Cafés Chocolat Thé '!K26) -> 0
B20: TOTAL CHF | C20: =SUM(C3:C19) -> 0 | E20: TOTAL CHF | F20: =SUM(F3:F19) -> 0

Sheet Assiette&Plats
B1: CODE | C1: Assiettes & Plats | D1: Stock 15 04 20 | E1: PU HT | F1: TOTAL HT
C28: Sous Total | D28: =SUM(D3:D27) -> 0 | F28: =SUM(F3:F27) -> 0
C32: Sous Total | D32: =SUM(D29:D31) -> 0 | F32: =SUM(F29:F31) -> 0
C37: Sous Total | D37: =SUM(D33:D36) -> 0 | F37: =SUM(F33:F36) -> 0
C41: Sous Total | D41: =SUM(D38:D40) -> 0 | F41: =SUM(F38:F40) -> 0
C50: Sous Total | D50: =SUM(D43:D49) -> 0 | F50: =SUM(F43:F49) -> 0
C62: Total | D62: =SUM(D18:D49) -> 0 | F62: =SUM(F61+F50+F41+F37+F32+F28) -> 0

Sheet Fournisseurs
B1: Code | C1: Catégorie | D1: Adresse | E1: Email | F1: Tel | G1: N° client | H1: TVA CHE
C2: Alimentaire
B3: LAR | C3: L'Artisan Glacier | D3: Route de la Conversion 261 - 1093 La Conversion | E3: info@lartisanglacier.ch | F3: +41 21 625 25 15 | G3: 286 | H3: CHE-114.480.144 TVA
B4: DEL | C4: Delitrade AG | D4: Libernstrasse 24 - 8112 Otelfingen | E4: info@delitrade.ch | F4: +41 43 411 60 00 | G4: 15945 | H4: CHE-109.519.728 MWST
B5: ROY | C5: Royal Fish Sàrl | G5: 0
C17: Boissons
B18: CAR | C18: Caratello Weine AG | D18: Zürcher Strasse 204E - 9014 St-Gallen | E18: info@caratello.ch | F18: +41 71 244 88 55 | G18: 253070 | H18: CHE-105.864.586 MWST
B19: STA | C19: Stardrinks AG | G19: 0
C40: Cigares
C44: Caisses et CB
C51: Energie
C58: Entretien
C82: Matériels

Sheet Elis
B1: Test 46 | C1: LINGE RENT AND WASH 04 2011 | D1: STOCK | E1: PU HT | F1: UNITÉ / LOT | G1: TARIF ABÎMÉ | H1: PA TOTAL HT | I1: COLORIS | J1: FAMILLE | L1: Contribution énergie (dès 01.03.2011)
B45: CODE | C45: TOTAL | D45: =SUM(D2:D44) -> 0 | H45: =SUM(H2:H44) -> 0

Sheet Ajouts
B1: CODE | C1: PRODUITS AJOUTÉS | D1: STOCK | E1: PU HT | F1: TOTAL HT | G1: FOURNISSEUR | H1: TYPE | I1: UNITÉ
C1586: Total CHF HT | D1586: =SUM(D2:D1585) -> 0 | F1586: =SUM(F2:F1585) -> 0

Sheet L'Artisan Glacier
B1: L'ARTISAN GLACIER | C1: L'ARTISAN GLACIER | D1: Stock 021126 | E1: Entrée | F1: Vendu | G1: Stock | H1: PU HT | I1: HT
B3: LAR | C3: Glace Vanille bac 2.5 litres | D3: 0 | E3: 6 | F3: 0 | G3: =SUM(D3+E3-F3) -> 6 | H3: 21.25 | I3: =SUM(G3*H3) -> 127.5
B4: LAR | C4: Glace Chocolat bac 2.5 litres | D4: 0 | E4: 3 | F4: 0 | G4: =SUM(D4+E4-F4) -> 3 | H4: 21.25 | I4: =SUM(G4*H4) -> 63.75
B5: LAR | C5: Glace Caramel Salé bac 2.5 litres | D5: 0 | E5: 4 | F5: 0 | G5: =SUM(D5+E5-F5) -> 4 | H5: 21.25 | I5: =SUM(G5*H5) -> 85
B6: LAR | C6: Glace Café bac 2.5 litres | D6: 0 | E6: 3 | F6: 0 | G6: =SUM(D6+E6-F6) -> 3 | H6: 21.25 | I6: =SUM(G6*H6) -> 63.75
B7: LAR | C7: Glace Stracciatella bac 2.5 litres | D7: 0 | E7: 2 | F7: 0 | G7: =SUM(D7+E7-F7) -> 2 | H7: 21.25 | I7: =SUM(G7*H7) -> 42.5
B8: LAR | C8: Glace Pistache bac 2.5 litres | D8: 0 | E8: 3 | F8: 0 | G8: =SUM(D8+E8-F8) -> 3 | H8: 21.25 | I8: =SUM(G8*H8) -> 63.75
B9: LAR | C9: Glace Speculoos bac 2.5 litres | D9: 0 | E9: 3 | F9: 0 | G9: =SUM(D9+E9-F9) -> 3 | H9: 21.25 | I9: =SUM(G9*H9) -> 63.75
B10: LAR | C10: Sorbet Citron bac 2.5 litres | D10: 0 | E10: 4 | F10: 0 | G10: =SUM(D10+E10-F10) -> 4 | H10: 21.25 | I10: =SUM(G10*H10) -> 85
B11: LAR | C11: Sorbet Melon bac 2.5 litres | D11: 0 | E11: 2 | F11: 0 | G11: =SUM(D11+E11-F11) -> 2 | H11: 21.25 | I11: =SUM(G11*H11) -> 42.5
B12: LAR | C12: Sorbet Pamplemousse bac 2.5 litres | D12: 0 | E12: 2 | F12: 0 | G12: =SUM(D12+E12-F12) -> 2 | H12: 21.25 | I12: =SUM(G12*H12) -> 42.5
B13: LAR | C13: Sorbet Passion bac 2.5 litres | D13: 0 | E13: 2 | F13: 0 | G13: =SUM(D13+E13-F13) -> 2 | H13: 21.25 | I13: =SUM(G13*H13) -> 42.5
C14: Total | D14: =SUM(D3:D13) -> 0 | E14: =SUM(E3:E13) -> 34 | F14: =SUM(F3:F13) -> 0 | G14: =SUM(G3:G13) -> 34 | I14: =SUM(I3:I13) -> 722.5

Sheet Caratello Weine AG
B1: CARATELLO WEINE AG | C1: CARATELLO WEINE AG | D1: Stock 021126 | E1: Entrée | F1: Vendu | G1: Stock | H1: PU HT | I1: HT
B3: CAR | C3: Bolgheri Rosso DOC Le Macchiole 2017 75 cl | D3: 0 | E3: 12 | F3: 0 | G3: =SUM(D3+E3-F3) -> 12 | H3: 19.8 | I3: =SUM(G3*H3) -> 237.6
B4: CAR | C4: Brunello di Montalcino DOCG Mastrojanni 2014 75 cl | D4: 0 | E4: 6 | F4: 0 | G4: =SUM(D4+E4-F4) -> 6 | H4: 42.5 | I4: =SUM(G4*H4) -> 255
B5: CAR | C5: Cento su Cento Primitivo Salento Rosso IGT Castel di Salve 2016 75 cl | D5: 0 | E5: 18 | F5: 0 | G5: =SUM(D5+E5-F5) -> 18 | H5: 21.5 | I5: =SUM(G5*H5) -> 387
B6: CAR | C6: Hebo Suvereto DOCG Azienda Petra 2017 75 cl | D6: 0 | E6: 12 | F6: 0 | G6: =SUM(D6+E6-F6) -> 12 | H6: 13.5 | I6: =SUM(G6*H6) -> 162
B7: CAR | C7: Pecorino d'Abruzzo DOC Torre dei Beati 2018 75 cl | D7: 0 | E7: 12 | F7: 0 | G7: =SUM(D7+E7-F7) -> 12 | H7: 15.2 | I7: =SUM(G7*H7) -> 182.4
B8: CAR | C8: Etna Rosso DOC Benanti 2016 75 cl (échantillon) | D8: 0 | E8: 1 | F8: 0 | G8: =SUM(D8+E8-F8) -> 1 | H8: 0 | I8: =SUM(G8*H8) -> 0
B9: CAR | C9: Etna Bianco DOC Benanti 2017 75 cl (échantillon) | D9: 0 | E9: 1 | F9: 0 | G9: =SUM(D9+E9-F9) -> 1 | H9: 0 | I9: =SUM(G9*H9) -> 0
C10: Total | D10: =SUM(D3:D9) -> 0 | E10: =SUM(E3:E9) -> 62 | F10: =SUM(F3:F9) -> 0 | G10: =SUM(G3:G9) -> 62 | I10: =SUM(I3:I9) -> 1224

Sheet Delitrade AG
B1: DELITRADE AG | C1: DELITRADE AG | D1: Stock 021126 | E1: Entrée | F1: Vendu | G1: Stock | H1: PU HT | I1: HT
B3: DEL | C3: TARTARUGA 70G X40 PSOLE PANITA | D3: 0 | E3: 5 | F3: 0 | G3: =SUM(D3+E3-F3) -> 5 | H3: 28 | I3: =SUM(G3*H3) -> 140
B4: DEL | C4: CIABATTA 100G 4% OLIVE OIL SOLE | D4: 0 | E4: 1 | F4: 0 | G4: =SUM(D4+E4-F4) -> 1 | H4: 32.4 | I4: =SUM(G4*H4) -> 32.4
B5: DEL | C5: FOCACCIA TOMATO 90G PRESLICED | D5: 0 | E5: 1 | F5: 0 | G5: =SUM(D5+E5-F5) -> 1 | H5: 44.15 | I5: =SUM(G5*H5) -> 44.15
B6: DEL | C6: PAVE CAMPAGNE FDB FONCE 350G | D6: 0 | E6: 2 | F6: 0 | G6: =SUM(D6+E6-F6) -> 2 | H6: 64.55 | I6: =SUM(G6*H6) -> 129.1
B7: DEL | C7: BAGUETTE 290G X32 | D7: 0 | E7: 2 | F7: 0 | G7: =SUM(D7+E7-F7) -> 2 | H7: 53.1 | I7: =SUM(G7*H7) -> 106.2
C8: Total | D8: =SUM(D3:D7) -> 0 | E8: =SUM(E3:E7) -> 11 | F8: =SUM(F3:F7) -> 0 | G8: =SUM(G3:G7) -> 11 | I8: =SUM(I3:I7) -> 451.85

Sheet Stardrinks AG
B1: STARDRINKS AG | C1: STARDRINKS AG | D1: Stock 021126 | E1: Entrée | F1: Vendu | G1: Stock | H1: PU HT | I1: HT
B3: STA | C3: 20 lt Birra Moretti 4.6% Tank | D3: 0 | E3: 6 | F3: 0 | G3: =SUM(D3+E3-F3) -> 6 | H3: 58.08 | I3: =SUM(G3*H3) -> 348.48
B4: STA | C4: 33 cl Heineken 0.0% 4x6P VP | D4: 0 | E4: 24 | F4: 0 | G4: =SUM(D4+E4-F4) -> 24 | H4: 1.47 | I4: =SUM(G4*H4) -> 35.28
B5: STA | C5: 33 cl Coca-Cola VR | D5: 0 | E5: 120 | F5: 0 | G5: =SUM(D5+E5-F5) -> 120 | H5: 1.07 | I5: =SUM(G5*H5) -> 128.4
B6: STA | C6: 33 cl Coca-Cola Zero VR | D6: 0 | E6: 120 | F6: 0 | G6: =SUM(D6+E6-F6) -> 120 | H6: 1.07 | I6: =SUM(G6*H6) -> 128.4
B7: STA | C7: 25 cl Orangina Standard Caisse à 15 | D7: 0 | E7: 15 | F7: 0 | G7: =SUM(D7+E7-F7) -> 15 | H7: 1.13 | I7: =SUM(G7*H7) -> 16.95
B8: STA | C8: 20 cl Schweppes Tonic Water VR | D8: 0 | E8: 24 | F8: 0 | G8: =SUM(D8+E8-F8) -> 24 | H8: 1.19 | I8: =SUM(G8*H8) -> 28.56
B9: STA | C9: 25 cl Acqua Panna sans gas VC | D9: 0 | E9: 24 | F9: 0 | G9: =SUM(D9+E9-F9) -> 24 | H9: 0.85 | I9: =SUM(G9*H9) -> 20.4
B10: STA | C10: 25 cl S.Pellegrino eau minérale VC | D10: 0 | E10: 24 | F10: 0 | G10: =SUM(D10+E10-F10) -> 24 | H10: 0.85 | I10: =SUM(G10*H10) -> 20.4
B11: STA | C11: 7 kg Aligal 2 Co2 UN 1013 2.2 ADR | D11: 0 | E11: 1 | F11: 0 | G11: =SUM(D11+E11-F11) -> 1 | H11: 51.5 | I11: =SUM(G11*H11) -> 51.5
C12: Total | D12: =SUM(D3:D11) -> 0 | E12: =SUM(E3:E11) -> 358 | F12: =SUM(F3:F11) -> 0 | G12: =SUM(G3:G11) -> 358 | I12: =SUM(I3:I11) -> 778.37

Sheet Royal Fish Sàrl
B1: ROYAL FISH SÀRL | C1: ROYAL FISH SÀRL | D1: Stock 021126 | E1: Entrée | F1: Vendu | G1: Stock | H1: PU HT | I1: HT
B3: ROY | C3: PALOURDES / VONGOLES SURGELE DEMI COQUILLE | D3: 0 | E3: 4 | F3: 0 | G3: =SUM(D3+E3-F3) -> 4 | H3: 23.5 | I3: =SUM(G3*H3) -> 94
B4: ROY | C4: FILET DE SAUMON 1.4-1.8KG AP TRIM D SA (Norvège) | D4: 0 | E4: 1.55 | F4: 0 | G4: =SUM(D4+E4-F4) -> 1.55 | H4: 26.5 | I4: =SUM(G4*H4) -> 41.075
B5: ROY | C5: VONGOLE VERACE 01KG (Méditerranée-Italie) FRAIS | D5: 0 | E5: 1 | F5: 0 | G5: =SUM(D5+E5-F5) -> 1 | H5: 21.5 | I5: =SUM(G5*H5) -> 21.5
C8: Total | D8: =SUM(D3:D7) -> 0 | E8: =SUM(E3:E7) -> 6.55 | F8: =SUM(F3:F7) -> 0 | G8: =SUM(G3:G7) -> 6.55 | I8: =SUM(I3:I7) -> 156.575
