Workbook

Sheet Bilan
A1: Bilan simulé (brouillon à faire valider par un comptable)
A2: Les totaux de factures incluent la TVA (non séparée). Texte bleu = case à saisir.
B4: CHF | C4: Origine
A5: ACTIF | B5: =B6+B17
A6: ACTIFS CIRCULANTS | B6: =B7+B11+B13+B15
A7: Liquidités | B7: =B8+B9+B10
A8: Caisse | B8: 0 | C8: À saisir (pas encore alimenté dans RestEasy)
A9: Banque postale | B9: 0 | C9: À saisir (pas encore alimenté dans RestEasy)
A10: Banque | B10: =SUMIFS('Plan comptable'!$E$2:$E$43,'Plan comptable'!$A$2:$A$43,"1020") | C10: Plan comptable 1020
A11: Autres créances | B11: =B12
A12: Débiteurs | B12: =SUMIFS('Plan comptable'!$E$2:$E$43,'Plan comptable'!$A$2:$A$43,"1100") | C12: Plan comptable 1100
A13: Stocks | B13: =B14
A14: Stock-marchandises | B14: =SUMIFS('Plan comptable'!$E$2:$E$43,'Plan comptable'!$A$2:$A$43,"1200") | C14: Plan comptable 1200
A15: Autres actifs circulants | B15: =B16
A16: Actifs transitoires | B16: 0 | C16: À saisir (pas encore alimenté dans RestEasy)
A17: ACTIFS IMMOBILISÉS | B17: =B18+B24
A18: Immobilisations corporelles | B18: =B19+B20+B21+B22+B23
A19: Machines et appareils | B19: =SUMIFS('Plan comptable'!$E$2:$E$43,'Plan comptable'!$A$2:$A$43,"1500") | C19: Plan comptable 1500
A20: Mobilier | B20: 0 | C20: À saisir (pas encore alimenté dans RestEasy)
A21: Informatique | B21: 0 | C21: À saisir (pas encore alimenté dans RestEasy)
A22: Équipement et installations | B22: 0 | C22: À saisir (pas encore alimenté dans RestEasy)
A23: Travaux d'aménagement et locaux | B23: 0 | C23: À saisir (pas encore alimenté dans RestEasy)
A24: Immobilisations incorporelles | B24: =B25
A25: Fonds de commerce | B25: 0 | C25: À saisir (pas encore alimenté dans RestEasy)
A26: PASSIF | B26: =B27+B40
A27: FONDS ÉTRANGERS | B27: =B28+B32+B35+B37
A28: Dettes résultant de prestations | B28: =B29+B30+B31
A29: Créanciers (factures non payées) | B29: =SUMIFS('Plan comptable'!$E$2:$E$43,'Plan comptable'!$A$2:$A$43,"2000") | C29: Plan comptable 2000
A30: TVA due | B30: =SUMIFS('Plan comptable'!$E$2:$E$43,'Plan comptable'!$A$2:$A$43,"2200") | C30: Plan comptable 2200
A31: Salaires et charges sociales à payer | B31: 0 | C31: À saisir (pas encore alimenté dans RestEasy)
A32: Autres dettes à court terme | B32: =B33+B34
A33: Dette bancaire | B33: 0 | C33: À saisir (pas encore alimenté dans RestEasy)
A34: Passifs transitoires | B34: 0 | C34: À saisir (pas encore alimenté dans RestEasy)
A35: Dettes à long terme portant intérêts | B35: =B36
A36: Emprunt | B36: 0 | C36: À saisir (pas encore alimenté dans RestEasy)
A37: Autres dettes à long terme | B37: =B38+B39
A38: C/c actionnaires | B38: 0 | C38: À saisir (pas encore alimenté dans RestEasy)
A39: Prêt actionnaire (postposé) | B39: 0 | C39: À saisir (pas encore alimenté dans RestEasy)
A40: FONDS PROPRES | B40: =B41
A41: Capitaux propres | B41: =B42+B43
...

Sheet Compte d'exploitation
A1: Compte d'exploitation simulé (brouillon)
A2: Charges = factures fournisseurs enregistrées (TVA incluse). Texte bleu = case à saisir.
B4: CHF | C4: Origine
A5: PRODUITS | B5: =B6+B11
A6: Produits résultant de prestations | B6: =B7+B8+B9+B10
A7: Recettes | B7: 0 | C7: À saisir (pas encore alimenté dans RestEasy)
A8: Retenues nourriture et logement du personnel | B8: 0 | C8: À saisir (pas encore alimenté dans RestEasy)
A9: Sous-locations et divers | B9: 0 | C9: À saisir (pas encore alimenté dans RestEasy)
A10: Commissions sur cartes de crédit (en négatif) | B10: 0 | C10: À saisir (pas encore alimenté dans RestEasy)
A11: Autres produits | B11: =B12
A12: Intérêts créanciers | B12: 0 | C12: À saisir (pas encore alimenté dans RestEasy)
A13: CHARGES | B13: =B14+B16
A14: Charges directes | B14: =B15
A15: Achats de marchandises et matières d'exploitation | B15: =SUMIFS('Plan comptable'!$E$2:$E$43,'Plan comptable'!$A$2:$A$43,"4000")+SUMIFS('Plan comptable'!$E$2:$E$43,'Plan comptable'!$A$2:$A$43,"4010")+SUMIFS('Plan comptable'!$E$2:$E$43,'Plan comptable'!$A$2:$A$43,"4700") | C15: Plan comptable 4000 + 4010 + 4700
A16: Frais de personnel | B16: =B17+B18+B19
A17: Salaires | B17: 0 | C17: À saisir (pas encore alimenté dans RestEasy)
A18: Charges sociales | B18: 0 | C18: À saisir (pas encore alimenté dans RestEasy)
A19: Frais du personnel | B19: 0 | C19: À saisir (pas encore alimenté dans RestEasy)
A21: Bénéfice brut d'exploitation | B21: =B5-B13

Sheet Pertes et profits
A1: Compte de pertes et profits simulé (brouillon)
A2: Texte bleu = case à saisir. Le résultat reprend le bénéfice brut du compte d'exploitation.
B4: CHF | C4: Origine
A5: CHARGES | B5: =B6+B11+B17+B20+B22
A6: Frais des locaux | B6: =B7+B8+B9+B10
A7: Loyers | B7: =SUMIFS('Plan comptable'!$E$2:$E$43,'Plan comptable'!$A$2:$A$43,"6000") | C7: Plan comptable 6000
A8: Électricité, eau et énergie | B8: =SUMIFS('Plan comptable'!$E$2:$E$43,'Plan comptable'!$A$2:$A$43,"6400") | C8: Plan comptable 6400
A9: Nettoyage et entretien des locaux | B9: 0 | C9: À saisir (pas encore alimenté dans RestEasy)
A10: Entretien et réparation mobilier et matériels | B10: =SUMIFS('Plan comptable'!$E$2:$E$43,'Plan comptable'!$A$2:$A$43,"6100") | C10: Plan comptable 6100
A11: Frais d'administration | B11: =B12+B13+B14+B15+B16
A12: Frais d'administration et informatique | B12: =SUMIFS('Plan comptable'!$E$2:$E$43,'Plan comptable'!$A$2:$A$43,"6570") | C12: Plan comptable 6570
A13: Assurances, droits et taxes | B13: =SUMIFS('Plan comptable'!$E$2:$E$43,'Plan comptable'!$A$2:$A$43,"6300") | C13: Plan comptable 6300
A14: Frais de télécommunication | B14: =SUMIFS('Plan comptable'!$E$2:$E$43,'Plan comptable'!$A$2:$A$43,"6510") | C14: Plan comptable 6510
A15: Honoraires de tiers (comptabilité et conseils) | B15: =SUMIFS('Plan comptable'!$E$2:$E$43,'Plan comptable'!$A$2:$A$43,"6530") | C15: Plan comptable 6530
A16: Autres charges d'exploitation | B16: =SUMIFS('Plan comptable'!$E$2:$E$43,'Plan comptable'!$A$2:$A$43,"6700") | C16: Plan comptable 6700
A17: Frais de déplacements, représentation | B17: =B18+B19
A18: Frais de déplacements | B18: 0 | C18: À saisir (pas encore alimenté dans RestEasy)
A19: Frais de représentation et publicité | B19: =SUMIFS('Plan comptable'!$E$2:$E$43,'Plan comptable'!$A$2:$A$43,"6600") | C19: Plan comptable 6600
A20: Intérêts et frais financiers | B20: =B21
A21: Intérêts et frais bancaires | B21: =SUMIFS('Plan comptable'!$E$2:$E$43,'Plan comptable'!$A$2:$A$43,"6900") | C21: Plan comptable 6900
A22: Amortissements | B22: =B23
A23: Amortissements | B23: 0 | C23: À saisir (pas encore alimenté dans RestEasy)
A25: Bénéfice brut d'exploitation (reprise) | B25: ='Compte d''exploitation'!B21
A26: Bénéfice net d'exploitation | B26: =B25-B5
A28: Répartition du résultat
A29: Solde au début | B29: 0
A30: Report du résultat | B30: =B26
A31: Montant à disposition de l'Assemblée générale | B31: =B29+B30

Sheet Plan comptable
A1: Compte | B1: Libellé | C1: Classe | D1: Nombre de factures | E1: Solde CHF | F1: Origine du solde
A2: 1000 | B2: Caisse | C2: 1 Actifs : actifs circulants | D2: 0 | E2: 0 | F2: Pas encore alimenté (à saisir dans le bilan)
A3: 1010 | B3: Banque postale | C3: 1 Actifs : actifs circulants | D3: 0 | E3: 0 | F3: Pas encore alimenté (à saisir dans le bilan)
A4: 1020 | B4: Banque (compte courant) | C4: 1 Actifs : actifs circulants | D4: 0 | E4: 0 | F4: Pas encore alimenté (à saisir dans le bilan)
A5: 1100 | B5: Créances résultant de livraisons et prestations (débiteurs) | C5: 1 Actifs : actifs circulants | D5: 0 | E5: 0 | F5: Pas encore alimenté (à saisir dans le bilan)
A6: 1200 | B6: Stock de marchandises (Food et Beverage) | C6: 1 Actifs : actifs circulants | D6: 0 | E6: 3333.3 | F6: Valeur du stock Food + Beverage (quantité × prix d'achat HT)
A7: 1300 | B7: Actifs transitoires | C7: 1 Actifs : actifs circulants | D7: 0 | E7: 0 | F7: Pas encore alimenté (à saisir dans le bilan)
A8: 1500 | B8: Machines et appareils | C8: 1 Actifs : actifs immobilisés | D8: 0 | E8: 0 | F8: Pas encore alimenté (à saisir dans le bilan)
A9: 1510 | B9: Mobilier | C9: 1 Actifs : actifs immobilisés | D9: 0 | E9: 0 | F9: Pas encore alimenté (à saisir dans le bilan)
A10: 1520 | B10: Informatique et bureautique | C10: 1 Actifs : actifs immobilisés | D10: 0 | E10: 0 | F10: Pas encore alimenté (à saisir dans le bilan)
A11: 1530 | B11: Équipement et installations | C11: 1 Actifs : actifs immobilisés | D11: 0 | E11: 0 | F11: Pas encore alimenté (à saisir dans le bilan)
A12: 1600 | B12: Travaux d'aménagement et locaux | C12: 1 Actifs : actifs immobilisés | D12: 0 | E12: 0 | F12: Pas encore alimenté (à saisir dans le bilan)
A13: 1700 | B13: Fonds de commerce | C13: 1 Actifs : actifs immobilisés | D13: 0 | E13: 0 | F13: Pas encore alimenté (à saisir dans le bilan)
... A20: 2450 | B20: Compte courant et prêt actionnaire | C20: 2 Passifs : capitaux étrangers à long terme | D20: 0 | E20: 0 | F20: Pas encore alimenté (à saisir dans le bilan)
A21: 2800 | B21: Capital et réserves | C21: 2 Passifs : capitaux propres | D21: 0 | E21: =SUMIFS($E$2:$E$43,$A$2:$A$43,"1*")-SUMIFS($E$2:$E$43,$A$2:$A$43,"20*")-SUMIFS($E$2:$E$43,$A$2:$A$43,"21*")-SUMIFS($E$2:$E$43,$A$2:$A$43,"22*")-SUMIFS($E$2:$E$43,$A$2:$A$43,"23*")-SUMIFS($E$2:$E$43,$A$2:$A$43,"24*")-SUMIFS($E$2:$E$43,$A$2:$A$43,"27*") | F21: Solde qui équilibre le bilan (calculé)
A22: 3000 | B22: Produits : recettes (chiffre d'affaires) | C22: 3 Produits d'exploitation | D22: 0 | E22: 0 | F22: Pas encore alimenté (à saisir dans le bilan)
A23: 3400 | B23: Sous-locations et produits divers | C23: 3 Produits d'exploitation | D23: 0 | E23: 0 | F23: Pas encore alimenté (à saisir dans le bilan)
A24: 4000 | B24: Achats de marchandises : Food | C24: 4 Charges de matériel, marchandises et prestations | D24: 3 | E24: 1309.77 | F24: Total des factures classées sur ce compte (TVA incluse)
A25: 4010 | B25: Achats de marchandises : Beverage | C25: 4 Charges de matériel, marchandises et prestations | D25: 2 | E25: 2016.05 | F25: Total des factures classées sur ce compte (TVA incluse)
A26: 4700 | B26: Frais d'achat et de transport | C26: 4 Charges de matériel, marchandises et prestations | D26: 0 | E26: 0 | F26: Pas encore alimenté (à saisir dans le bilan)
A27: 5000 | B27: Salaires | C27: 5 Charges de personnel | D27: 0 | E27: 0 | F27: Pas encore alimenté (à saisir dans le bilan)
A28: 5700 | B28: Charges sociales | C28: 5 Charges de personnel | D28: 0 | E28: 0 | F28: Pas encore alimenté (à saisir dans le bilan)
A29: 5800 | B29: Autres frais de personnel | C29: 5 Charges de personnel | D29: 0 | E29: 0 | F29: Pas encore alimenté (à saisir dans le bilan)
A30: 6000 | B30: Loyers (locaux commerciaux, garages) | C30: 6 Autres charges d'exploitation | D30: 0 | E30: 0 | F30: Pas encore alimenté (à saisir dans le bilan)
A31: 6100 | B31: Entretien, réparations, remplacements | C31: 6 Autres charges d'exploitation | D31: 0 | E31: 0 | F31: Pas encore alimenté (à saisir dans le bilan)
A32: 6200 | B32: Véhicules, location, carburant et déplacements | C32: 6 Autres charges d'exploitation | D32: 0 | E32: 0 | F32: Pas encore alimenté (à saisir dans le bilan)
A33: 6300 | B33: Assurances, droits, taxes, autorisations | C33: 6 Autres charges d'exploitation | D33: 0 | E33: 0 | F33: Pas encore alimenté (à saisir dans le bilan)
... A43: 9999 | B43: À classer | C43: 9 À classer | D43: 0 | E43: 0 | F43: Pas encore alimenté (à saisir dans le bilan)

Sheet Détail factures
A1: Compte | B1: Libellé du compte | C1: Fournisseur | D1: N° facture | E1: Montant CHF (TVA incl.) | F1: Paiement
A2: 4000 | B2: Achats de marchandises : Food | C2: Delitrade AG | D2: 23550 | E2: 408.72 | F2: à payer
A3: 4000 | B3: Achats de marchandises : Food | C3: L'Artisan Glacier | D3: 17103 | E3: 740.55 | F3: à payer
A4: 4000 | B4: Achats de marchandises : Food | C4: Royal Fish Sàrl | D4: 21801882 | E4: 160.5 | F4: à payer
A5: 4010 | B5: Achats de marchandises : Beverage | C5: Caratello Weine AG | D5: 304350 | E5: 1186.4 | F5: à payer
A6: 4010 | B6: Achats de marchandises : Beverage | C6: Stardrinks AG | D6: 95693472 | E6: 829.65 | F6: à payer
