Workbook

Sheet Récapitulatif
A1: Fournisseur | B1: Total HT (CHF)
A2: Modèle fournisseur | B2: =SUM('Modèle fournisseur'!I4:I23) -> 0
A3: TOTAL | B3: =SUM(B2:B2) -> 0

Sheet Unités
A1: Unité | B1: Facteur (g ou cl)
A2: g | B2: 1
A3: kg | B3: 1000
A4: cl | B4: 1
A5: litre | B5: 100
A6: pce | B6: 1

Sheet Modèle fournisseur
A1: Commande · Matériel · Modèle fournisseur
A2: Remplir Quantité et Unité (bleu) : le nombre de conditionnements et le total se calculent. Prix HT d'après l'inventaire : à vérifier.
A3: Fournisseur | B3: Produit | C3: Quantité | D3: Unité | E3: Conditionnement | F3: Unité cond. | G3: PU HT / cond. (CHF) | H3: Nb cond. | I3: Total HT (CHF)
D4: pce | F4: pce | G4: 0 | H4: =IF(C4="","",IF(AND(E4>0,F4<>"pce",D4<>"pce"),C4*INDEX(Unités!$B$2:$B$6,MATCH(D4,Unités!$A$2:$A$6,0))/(E4*INDEX(Unités!$B$2:$B$6,MATCH(F4,Unités!$A$2:$A$6,0))),C4)) | I4: =IF(H4="","",ROUND(H4*G4,2))
D5: pce | F5: pce | G5: 0 | H5: =IF(C5="","",IF(AND(E5>0,F5<>"pce",D5<>"pce"),C5*INDEX(Unités!$B$2:$B$6,MATCH(D5,Unités!$A$2:$A$6,0))/(E5*INDEX(Unités!$B$2:$B$6,MATCH(F5,Unités!$A$2:$A$6,0))),C5)) | I5: =IF(H5="","",ROUND(H5*G5,2))
D6: pce | F6: pce | G6: 0 | H6: =IF(C6="","",IF(AND(E6>0,F6<>"pce",D6<>"pce"),C6*INDEX(Unités!$B$2:$B$6,MATCH(D6,Unités!$A$2:$A$6,0))/(E6*INDEX(Unités!$B$2:$B$6,MATCH(F6,Unités!$A$2:$A$6,0))),C6)) | I6: =IF(H6="","",ROUND(H6*G6,2))
D7: pce | F7: pce | G7: 0 | H7: =IF(C7="","",IF(AND(E7>0,F7<>"pce",D7<>"pce"),C7*INDEX(Unités!$B$2:$B$6,MATCH(D7,Unités!$A$2:$A$6,0))/(E7*INDEX(Unités!$B$2:$B$6,MATCH(F7,Unités!$A$2:$A$6,0))),C7)) | I7: =IF(H7="","",ROUND(H7*G7,2))
D8: pce | F8: pce | G8: 0 | H8: =IF(C8="","",IF(AND(E8>0,F8<>"pce",D8<>"pce"),C8*INDEX(Unités!$B$2:$B$6,MATCH(D8,Unités!$A$2:$A$6,0))/(E8*INDEX(Unités!$B$2:$B$6,MATCH(F8,Unités!$A$2:$A$6,0))),C8)) | I8: =IF(H8="","",ROUND(H8*G8,2))
D9: pce | F9: pce | G9: 0 | H9: =IF(C9="","",IF(AND(E9>0,F9<>"pce",D9<>"pce"),C9*INDEX(Unités!$B$2:$B$6,MATCH(D9,Unités!$A$2:$A$6,0))/(E9*INDEX(Unités!$B$2:$B$6,MATCH(F9,Unités!$A$2:$A$6,0))),C9)) | I9: =IF(H9="","",ROUND(H9*G9,2))
D10: pce | F10: pce | G10: 0 | H10: =IF(C10="","",IF(AND(E10>0,F10<>"pce",D10<>"pce"),C10*INDEX(Unités!$B$2:$B$6,MATCH(D10,Unités!$A$2:$A$6,0))/(E10*INDEX(Unités!$B$2:$B$6,MATCH(F10,Unités!$A$2:$A$6,0))),C10)) | I10: =IF(H10="","",ROUND(H10*G10,2))
D11: pce | F11: pce | G11: 0 | H11: =IF(C11="","",IF(AND(E11>0,F11<>"pce",D11<>"pce"),C11*INDEX(Unités!$B$2:$B$6,MATCH(D11,Unités!$A$2:$A$6,0))/(E11*INDEX(Unités!$B$2:$B$6,MATCH(F11,Unités!$A$2:$A$6,0))),C11)) | I11: =IF(H11="","",ROUND(H11*G11,2))
D12: pce | F12: pce | G12: 0 | H12: =IF(C12="","",IF(AND(E12>0,F12<>"pce",D12<>"pce"),C12*INDEX(Unités!$B$2:$B$6,MATCH(D12,Unités!$A$2:$A$6,0))/(E12*INDEX(Unités!$B$2:$B$6,MATCH(F12,Unités!$A$2:$A$6,0))),C12)) | I12: =IF(H12="","",ROUND(H12*G12,2))
D13: pce | F13: pce | G13: 0 | H13: =IF(C13="","",IF(AND(E13>0,F13<>"pce",D13<>"pce"),C13*INDEX(Unités!$B$2:$B$6,MATCH(D13,Unités!$A$2:$A$6,0))/(E13*INDEX(Unités!$B$2:$B$6,MATCH(F13,Unités!$A$2:$A$6,0))),C13)) | I13: =IF(H13="","",ROUND(H13*G13,2))
D14: pce | F14: pce | G14: 0 | H14: =IF(C14="","",IF(AND(E14>0,F14<>"pce",D14<>"pce"),C14*INDEX(Unités!$B$2:$B$6,MATCH(D14,Unités!$A$2:$A$6,0))/(E14*INDEX(Unités!$B$2:$B$6,MATCH(F14,Unités!$A$2:$A$6,0))),C14)) | I14: =IF(H14="","",ROUND(H14*G14,2))
D15: pce | F15: pce | G15: 0 | H15: =IF(C15="","",IF(AND(E15>0,F15<>"pce",D15<>"pce"),C15*INDEX(Unités!$B$2:$B$6,MATCH(D15,Unités!$A$2:$A$6,0))/(E15*INDEX(Unités!$B$2:$B$6,MATCH(F15,Unités!$A$2:$A$6,0))),C15)) | I15: =IF(H15="","",ROUND(H15*G15,2))
... D23: pce | F23: pce | G23: 0 | H23: =IF(C23="","",IF(AND(E23>0,F23<>"pce",D23<>"pce"),C23*INDEX(Unités!$B$2:$B$6,MATCH(D23,Unités!$A$2:$A$6,0))/(E23*INDEX(Unités!$B$2:$B$6,MATCH(F23,Unités!$A$2:$A$6,0))),C23)) | I23: =IF(H23="","",ROUND(H23*G23,2))
B24: TOTAL HT | I24: =SUM(I4:I23) -> 0
