Workbook

Sheet Récapitulatif
A1: Fournisseur | B1: Total HT (CHF)
A2: Caratello Weine AG | B2: =SUM('Caratello Weine AG'!I4:I10) -> 0
A3: Stardrinks AG | B3: =SUM('Stardrinks AG'!I4:I12) -> 0
A4: TOTAL | B4: =SUM(B2:B3) -> 0

Sheet Unités
A1: Unité | B1: Facteur (g ou cl)
A2: g | B2: 1
A3: kg | B3: 1000
A4: cl | B4: 1
A5: litre | B5: 100
A6: pce | B6: 1

Sheet Caratello Weine AG
A1: Commande · Beverage · Caratello Weine AG
A2: Remplir Quantité et Unité (bleu) : le nombre de conditionnements et le total se calculent. Prix HT d'après l'inventaire : à vérifier.
A3: Fournisseur | B3: Produit | C3: Quantité | D3: Unité | E3: Conditionnement | F3: Unité cond. | G3: PU HT / cond. (CHF) | H3: Nb cond. | I3: Total HT (CHF)
A4: Caratello Weine AG | B4: Etna Bianco DOC Benanti 2017 75 cl (échantillon) | D4: pce | F4: pce | G4: 0 | H4: =IF(C4="","",IF(AND(E4>0,F4<>"pce",D4<>"pce"),C4*INDEX(Unités!$B$2:$B$6,MATCH(D4,Unités!$A$2:$A$6,0))/(E4*INDEX(Unités!$B$2:$B$6,MATCH(F4,Unités!$A$2:$A$6,0))),C4)) | I4: =IF(H4="","",ROUND(H4*G4,2))
A5: Caratello Weine AG | B5: Etna Rosso DOC Benanti 2016 75 cl (échantillon) | D5: pce | F5: pce | G5: 0 | H5: =IF(C5="","",IF(AND(E5>0,F5<>"pce",D5<>"pce"),C5*INDEX(Unités!$B$2:$B$6,MATCH(D5,Unités!$A$2:$A$6,0))/(E5*INDEX(Unités!$B$2:$B$6,MATCH(F5,Unités!$A$2:$A$6,0))),C5)) | I5: =IF(H5="","",ROUND(H5*G5,2))
A6: Caratello Weine AG | B6: Bolgheri Rosso DOC Le Macchiole 2017 75 cl | D6: pce | F6: pce | G6: 19.8 | H6: =IF(C6="","",IF(AND(E6>0,F6<>"pce",D6<>"pce"),C6*INDEX(Unités!$B$2:$B$6,MATCH(D6,Unités!$A$2:$A$6,0))/(E6*INDEX(Unités!$B$2:$B$6,MATCH(F6,Unités!$A$2:$A$6,0))),C6)) | I6: =IF(H6="","",ROUND(H6*G6,2))
A7: Caratello Weine AG | B7: Brunello di Montalcino DOCG Mastrojanni 2014 75 cl | D7: pce | F7: pce | G7: 42.5 | H7: =IF(C7="","",IF(AND(E7>0,F7<>"pce",D7<>"pce"),C7*INDEX(Unités!$B$2:$B$6,MATCH(D7,Unités!$A$2:$A$6,0))/(E7*INDEX(Unités!$B$2:$B$6,MATCH(F7,Unités!$A$2:$A$6,0))),C7)) | I7: =IF(H7="","",ROUND(H7*G7,2))
A8: Caratello Weine AG | B8: Cento su Cento Primitivo Salento Rosso IGT Castel di Salve 2016 75 cl | D8: pce | F8: pce | G8: 21.5 | H8: =IF(C8="","",IF(AND(E8>0,F8<>"pce",D8<>"pce"),C8*INDEX(Unités!$B$2:$B$6,MATCH(D8,Unités!$A$2:$A$6,0))/(E8*INDEX(Unités!$B$2:$B$6,MATCH(F8,Unités!$A$2:$A$6,0))),C8)) | I8: =IF(H8="","",ROUND(H8*G8,2))
A9: Caratello Weine AG | B9: Hebo Suvereto DOCG Azienda Petra 2017 75 cl | D9: pce | F9: pce | G9: 13.5 | H9: =IF(C9="","",IF(AND(E9>0,F9<>"pce",D9<>"pce"),C9*INDEX(Unités!$B$2:$B$6,MATCH(D9,Unités!$A$2:$A$6,0))/(E9*INDEX(Unités!$B$2:$B$6,MATCH(F9,Unités!$A$2:$A$6,0))),C9)) | I9: =IF(H9="","",ROUND(H9*G9,2))
A10: Caratello Weine AG | B10: Pecorino d'Abruzzo DOC Torre dei Beati 2018 75 cl | D10: pce | F10: pce | G10: 15.2 | H10: =IF(C10="","",IF(AND(E10>0,F10<>"pce",D10<>"pce"),C10*INDEX(Unités!$B$2:$B$6,MATCH(D10,Unités!$A$2:$A$6,0))/(E10*INDEX(Unités!$B$2:$B$6,MATCH(F10,Unités!$A$2:$A$6,0))),C10)) | I10: =IF(H10="","",ROUND(H10*G10,2))
B11: TOTAL HT | I11: =SUM(I4:I10) -> 0

Sheet Stardrinks AG
A1: Commande · Beverage · Stardrinks AG
A2: Remplir Quantité et Unité (bleu) : le nombre de conditionnements et le total se calculent. Prix HT d'après l'inventaire : à vérifier.
A3: Fournisseur | B3: Produit | C3: Quantité | D3: Unité | E3: Conditionnement | F3: Unité cond. | G3: PU HT / cond. (CHF) | H3: Nb cond. | I3: Total HT (CHF)
A4: Stardrinks AG | B4: 20 cl Schweppes Tonic Water VR | D4: pce | F4: pce | G4: 1.19 | H4: =IF(C4="","",IF(AND(E4>0,F4<>"pce",D4<>"pce"),C4*INDEX(Unités!$B$2:$B$6,MATCH(D4,Unités!$A$2:$A$6,0))/(E4*INDEX(Unités!$B$2:$B$6,MATCH(F4,Unités!$A$2:$A$6,0))),C4)) | I4: =IF(H4="","",ROUND(H4*G4,2))
A5: Stardrinks AG | B5: 20 lt Birra Moretti 4.6% Tank | D5: pce | F5: pce | G5: 58.08 | H5: =IF(C5="","",IF(AND(E5>0,F5<>"pce",D5<>"pce"),C5*INDEX(Unités!$B$2:$B$6,MATCH(D5,Unités!$A$2:$A$6,0))/(E5*INDEX(Unités!$B$2:$B$6,MATCH(F5,Unités!$A$2:$A$6,0))),C5)) | I5: =IF(H5="","",ROUND(H5*G5,2))
A6: Stardrinks AG | B6: 25 cl Acqua Panna sans gas VC | D6: pce | F6: pce | G6: 0.85 | H6: =IF(C6="","",IF(AND(E6>0,F6<>"pce",D6<>"pce"),C6*INDEX(Unités!$B$2:$B$6,MATCH(D6,Unités!$A$2:$A$6,0))/(E6*INDEX(Unités!$B$2:$B$6,MATCH(F6,Unités!$A$2:$A$6,0))),C6)) | I6: =IF(H6="","",ROUND(H6*G6,2))
A7: Stardrinks AG | B7: 25 cl Orangina Standard Caisse à 15 | D7: pce | F7: pce | G7: 1.13 | H7: =IF(C7="","",IF(AND(E7>0,F7<>"pce",D7<>"pce"),C7*INDEX(Unités!$B$2:$B$6,MATCH(D7,Unités!$A$2:$A$6,0))/(E7*INDEX(Unités!$B$2:$B$6,MATCH(F7,Unités!$A$2:$A$6,0))),C7)) | I7: =IF(H7="","",ROUND(H7*G7,2))
A8: Stardrinks AG | B8: 25 cl S.Pellegrino eau minérale VC | D8: pce | F8: pce | G8: 0.85 | H8: =IF(C8="","",IF(AND(E8>0,F8<>"pce",D8<>"pce"),C8*INDEX(Unités!$B$2:$B$6,MATCH(D8,Unités!$A$2:$A$6,0))/(E8*INDEX(Unités!$B$2:$B$6,MATCH(F8,Unités!$A$2:$A$6,0))),C8)) | I8: =IF(H8="","",ROUND(H8*G8,2))
A9: Stardrinks AG | B9: 33 cl Coca-Cola VR | D9: pce | F9: pce | G9: 1.07 | H9: =IF(C9="","",IF(AND(E9>0,F9<>"pce",D9<>"pce"),C9*INDEX(Unités!$B$2:$B$6,MATCH(D9,Unités!$A$2:$A$6,0))/(E9*INDEX(Unités!$B$2:$B$6,MATCH(F9,Unités!$A$2:$A$6,0))),C9)) | I9: =IF(H9="","",ROUND(H9*G9,2))
A10: Stardrinks AG | B10: 33 cl Coca-Cola Zero VR | D10: pce | F10: pce | G10: 1.07 | H10: =IF(C10="","",IF(AND(E10>0,F10<>"pce",D10<>"pce"),C10*INDEX(Unités!$B$2:$B$6,MATCH(D10,Unités!$A$2:$A$6,0))/(E10*INDEX(Unités!$B$2:$B$6,MATCH(F10,Unités!$A$2:$A$6,0))),C10)) | I10: =IF(H10="","",ROUND(H10*G10,2))
A11: Stardrinks AG | B11: 33 cl Heineken 0.0% 4x6P VP | D11: pce | F11: pce | G11: 1.47 | H11: =IF(C11="","",IF(AND(E11>0,F11<>"pce",D11<>"pce"),C11*INDEX(Unités!$B$2:$B$6,MATCH(D11,Unités!$A$2:$A$6,0))/(E11*INDEX(Unités!$B$2:$B$6,MATCH(F11,Unités!$A$2:$A$6,0))),C11)) | I11: =IF(H11="","",ROUND(H11*G11,2))
A12: Stardrinks AG | B12: 7 kg Aligal 2 Co2 UN 1013 2.2 ADR | D12: pce | F12: pce | G12: 51.5 | H12: =IF(C12="","",IF(AND(E12>0,F12<>"pce",D12<>"pce"),C12*INDEX(Unités!$B$2:$B$6,MATCH(D12,Unités!$A$2:$A$6,0))/(E12*INDEX(Unités!$B$2:$B$6,MATCH(F12,Unités!$A$2:$A$6,0))),C12)) | I12: =IF(H12="","",ROUND(H12*G12,2))
B13: TOTAL HT | I13: =SUM(I4:I12) -> 0
